BEGIN:VCALENDAR
METHOD:PUBLISH
VERSION:2.0
CALSCALE:GREGORIAN
PRODID:-//NONSGML WPForms//NONSGML Sugar Calendar Feeds v3.10.0//EN
X-WR-CALNAME:Weekend van de wetenschap
X-WR-CALDESC:Cygnus Gymnasium
X-WR-TIMEZONE:Europe/Amsterdam
BEGIN:VTIMEZONE
TZID:Europe/Amsterdam
BEGIN:DAYLIGHT
TZOFFSETFROM:+0200
TZOFFSETTO:+0200
DTSTART:20250404T120000
TZNAME:CEST
END:DAYLIGHT
END:VTIMEZONE
BEGIN:VTIMEZONE
TZID:Europe/Amsterdam
BEGIN:DAYLIGHT
TZOFFSETFROM:+0200
TZOFFSETTO:+0200
DTSTART:20250404T120000
TZNAME:CEST
END:DAYLIGHT
END:VTIMEZONE
BEGIN:VEVENT
SUMMARY:Weekend van de wetenschap
DESCRIPTION:aanmelden via deze link https://weekendvandewetenschap.nl/
URL;VALUE=URI:https://cygnusgymnasium.nl/events/weekend-van-de-wetenscha
 p/
UID:urn:uuid:547a4e7d-8c19-42ab-8444-b0590a6013cc
STATUS:CONFIRMED
ORGANIZER:
DTSTAMP:20260419T134730Z
DTSTART;VALUE=DATE:20251004
DTEND;VALUE=DATE:20251005
END:VEVENT
END:VCALENDAR