BEGIN:VCALENDAR
METHOD:PUBLISH
VERSION:2.0
CALSCALE:GREGORIAN
PRODID:-//NONSGML WPForms//NONSGML Sugar Calendar Feeds v3.10.0//EN
X-WR-CALNAME:verkort rooster (rapportvergadering bovenbouw)
X-WR-CALDESC:Cygnus Gymnasium
X-WR-TIMEZONE:Europe/Amsterdam
BEGIN:VTIMEZONE
TZID:Europe/Amsterdam
BEGIN:STANDARD
TZOFFSETFROM:+0200
TZOFFSETTO:+0100
DTSTART:20241027T010000
TZNAME:CET
END:STANDARD
END:VTIMEZONE
BEGIN:VTIMEZONE
TZID:Europe/Amsterdam
BEGIN:STANDARD
TZOFFSETFROM:+0200
TZOFFSETTO:+0100
DTSTART:20241027T010000
TZNAME:CET
END:STANDARD
END:VTIMEZONE
BEGIN:VEVENT
SUMMARY:verkort rooster (rapportvergadering bovenbouw)
DESCRIPTION:verkort rooster (40 min) met negen lesuren\n\n1e uur 08.25 
 - 09.10\n2e uur 09.10 - 09.50\n3e uur 09.50 - 10.30\n\n pauze\n\n4e uur
  10.50 - 11.30\n5e uur 11.30 - 12.10\n6e uur 12.10 - 12.50\n\n pauze\n\
 n7e uur 13.20 - 14.00\n8e uur 14.00 - 14.40\n9e uur 14.40 - 15.20
URL;VALUE=URI:https://cygnusgymnasium.nl/events/verkort-rooster-rapportv
 ergadering-bovenbouw/
UID:urn:uuid:b20bbfad-6312-401c-bfb5-d0880e214d22
STATUS:CONFIRMED
ORGANIZER:
DTSTAMP:20260422T040337Z
DTSTART;VALUE=DATE:20250326
END:VEVENT
END:VCALENDAR