BEGIN:VCALENDAR
METHOD:PUBLISH
VERSION:2.0
CALSCALE:GREGORIAN
PRODID:-//NONSGML WPForms//NONSGML Sugar Calendar Feeds v3.10.0//EN
X-WR-CALNAME:verkort rooster
X-WR-CALDESC:Cygnus Gymnasium
X-WR-TIMEZONE:Europe/Amsterdam
BEGIN:VTIMEZONE
TZID:Europe/Amsterdam
BEGIN:STANDARD
TZOFFSETFROM:+0200
TZOFFSETTO:+0100
DTSTART:20251026T010000
TZNAME:CET
END:STANDARD
END:VTIMEZONE
BEGIN:VTIMEZONE
TZID:Europe/Amsterdam
BEGIN:STANDARD
TZOFFSETFROM:+0200
TZOFFSETTO:+0100
DTSTART:20251026T010000
TZNAME:CET
END:STANDARD
END:VTIMEZONE
BEGIN:VEVENT
SUMMARY:verkort rooster
DESCRIPTION:Onderbouw heeft lessen tot en met 6e uur (12.50 uur) en daar
 na het kerstconcert\n\nBovenbouw heeft lessen tot en met het 7e uur (14.
 00 uur) en daarna het kerstconcert
URL;VALUE=URI:https://cygnusgymnasium.nl/events/verkort-rooster-3/
UID:urn:uuid:fdc67fb4-07f3-47b6-8a0c-37263177dfa2
STATUS:CONFIRMED
ORGANIZER:
DTSTAMP:20260420T124556Z
DTSTART;VALUE=DATE:20251218
END:VEVENT
END:VCALENDAR