BEGIN:VCALENDAR
METHOD:PUBLISH
VERSION:2.0
CALSCALE:GREGORIAN
PRODID:-//NONSGML WPForms//NONSGML Sugar Calendar Feeds v3.10.0//EN
X-WR-CALNAME:verkort rooster
X-WR-CALDESC:Cygnus Gymnasium
X-WR-TIMEZONE:Europe/Amsterdam
BEGIN:VTIMEZONE
TZID:Europe/Amsterdam
BEGIN:STANDARD
TZOFFSETFROM:+0200
TZOFFSETTO:+0100
DTSTART:20251026T010000
TZNAME:CET
END:STANDARD
END:VTIMEZONE
BEGIN:VTIMEZONE
TZID:Europe/Amsterdam
BEGIN:STANDARD
TZOFFSETFROM:+0200
TZOFFSETTO:+0100
DTSTART:20251026T010000
TZNAME:CET
END:STANDARD
END:VTIMEZONE
BEGIN:VEVENT
SUMMARY:verkort rooster
DESCRIPTION:i.v.m. rapportvergaderingen
URL;VALUE=URI:https://cygnusgymnasium.nl/events/verkort-rooster-2/
UID:urn:uuid:26d33f75-9911-4959-b095-018d4c07dcc0
STATUS:CONFIRMED
ORGANIZER:
DTSTAMP:20260420T181119Z
DTSTART;VALUE=DATE:20260113
END:VEVENT
END:VCALENDAR