BEGIN:VCALENDAR
METHOD:PUBLISH
VERSION:2.0
CALSCALE:GREGORIAN
PRODID:-//NONSGML WPForms//NONSGML Sugar Calendar Feeds v3.10.0//EN
X-WR-CALNAME:Srefidensi Dey (Surinaams/onafhankelijkheidsdag)
X-WR-CALDESC:Cygnus Gymnasium
X-WR-TIMEZONE:Europe/Amsterdam
BEGIN:VTIMEZONE
TZID:Europe/Amsterdam
BEGIN:STANDARD
TZOFFSETFROM:+0200
TZOFFSETTO:+0100
DTSTART:20251026T010000
TZNAME:CET
END:STANDARD
END:VTIMEZONE
BEGIN:VTIMEZONE
TZID:Europe/Amsterdam
BEGIN:STANDARD
TZOFFSETFROM:+0200
TZOFFSETTO:+0100
DTSTART:20251026T010000
TZNAME:CET
END:STANDARD
END:VTIMEZONE
BEGIN:VEVENT
SUMMARY:Srefidensi Dey (Surinaams/onafhankelijkheidsdag)
DESCRIPTION:Voeg een omschrijving toe
URL;VALUE=URI:https://cygnusgymnasium.nl/events/srefidensi-dey-surinaams
 -onafhankelijkheidsdag/
UID:urn:uuid:8e5ff2b6-5035-4fbc-a0f1-c833fb9b9b99
STATUS:CONFIRMED
ORGANIZER:
DTSTAMP:20260424T085243Z
DTSTART;VALUE=DATE:20251125
END:VEVENT
END:VCALENDAR