BEGIN:VCALENDAR
METHOD:PUBLISH
VERSION:2.0
CALSCALE:GREGORIAN
PRODID:-//NONSGML WPForms//NONSGML Sugar Calendar Feeds v3.10.0//EN
X-WR-CALNAME:Schoolfeest alle leerjaren (externe locatie)
X-WR-CALDESC:Cygnus Gymnasium
X-WR-TIMEZONE:Europe/Amsterdam
BEGIN:VTIMEZONE
TZID:Europe/Amsterdam
BEGIN:STANDARD
TZOFFSETFROM:+0200
TZOFFSETTO:+0100
DTSTART:20241027T010000
TZNAME:CET
END:STANDARD
END:VTIMEZONE
BEGIN:VTIMEZONE
TZID:Europe/Amsterdam
BEGIN:STANDARD
TZOFFSETFROM:+0200
TZOFFSETTO:+0100
DTSTART:20241027T010000
TZNAME:CET
END:STANDARD
END:VTIMEZONE
BEGIN:VEVENT
SUMMARY:Schoolfeest alle leerjaren (externe locatie)
DESCRIPTION:In de Melkweg\, zie posters in de school
URL;VALUE=URI:https://cygnusgymnasium.nl/events/schoolfeest-alle-leerjar
 en-externe-locatie/
UID:urn:uuid:9a82c0f0-c1ff-4eae-9e00-24c6ace6121b
STATUS:CONFIRMED
ORGANIZER:
DTSTAMP:20260424T084422Z
DTSTART;TZID=Europe/Amsterdam:20250128T200000
DTEND;TZID=Europe/Amsterdam:20250128T235000
END:VEVENT
END:VCALENDAR