BEGIN:VCALENDAR
METHOD:PUBLISH
VERSION:2.0
CALSCALE:GREGORIAN
PRODID:-//NONSGML WPForms//NONSGML Sugar Calendar Feeds v3.10.0//EN
X-WR-CALNAME:Schoolfeest alle leerjaren (externe locatie)
X-WR-CALDESC:Cygnus Gymnasium
X-WR-TIMEZONE:Europe/Amsterdam
BEGIN:VTIMEZONE
TZID:Europe/Amsterdam
BEGIN:STANDARD
TZOFFSETFROM:+0200
TZOFFSETTO:+0100
DTSTART:20251026T010000
TZNAME:CET
END:STANDARD
END:VTIMEZONE
BEGIN:VTIMEZONE
TZID:Europe/Amsterdam
BEGIN:STANDARD
TZOFFSETFROM:+0200
TZOFFSETTO:+0100
DTSTART:20251026T010000
TZNAME:CET
END:STANDARD
END:VTIMEZONE
BEGIN:VEVENT
SUMMARY:Schoolfeest alle leerjaren (externe locatie)
DESCRIPTION:Voeg een omschrijving toe
URL;VALUE=URI:https://cygnusgymnasium.nl/events/schoolfeest-alle-leerjar
 en-externe-locatie-3/
UID:urn:uuid:d3dcfaaf-f61b-43f4-a7a7-f57c5182ab10
STATUS:CONFIRMED
ORGANIZER:
DTSTAMP:20260420T004330Z
DTSTART;TZID=Europe/Amsterdam:20260113T200000
DTEND;TZID=Europe/Amsterdam:20260113T235000
END:VEVENT
END:VCALENDAR