BEGIN:VCALENDAR
METHOD:PUBLISH
VERSION:2.0
CALSCALE:GREGORIAN
PRODID:-//NONSGML WPForms//NONSGML Sugar Calendar Feeds v3.10.0//EN
X-WR-CALNAME:PWS+ Zweden - inweek (Zweedse leerlingen op Cygnus)
X-WR-CALDESC:Cygnus Gymnasium
X-WR-TIMEZONE:Europe/Amsterdam
BEGIN:VTIMEZONE
TZID:Europe/Amsterdam
BEGIN:STANDARD
TZOFFSETFROM:+0200
TZOFFSETTO:+0100
DTSTART:20241027T010000
TZNAME:CET
END:STANDARD
END:VTIMEZONE
BEGIN:VTIMEZONE
TZID:Europe/Amsterdam
BEGIN:STANDARD
TZOFFSETFROM:+0200
TZOFFSETTO:+0100
DTSTART:20241027T010000
TZNAME:CET
END:STANDARD
END:VTIMEZONE
BEGIN:VEVENT
SUMMARY:PWS+ Zweden - inweek (Zweedse leerlingen op Cygnus)
DESCRIPTION:Voeg een omschrijving toe
URL;VALUE=URI:https://cygnusgymnasium.nl/events/pws-zweden-inweek-zweeds
 e-leerlingen-op-cygnus/
UID:urn:uuid:498d8038-70cb-4239-bdc5-51ce6adcd8aa
STATUS:CONFIRMED
ORGANIZER:
DTSTAMP:20260422T025217Z
DTSTART;VALUE=DATE:20250127
END:VEVENT
END:VCALENDAR