BEGIN:VCALENDAR
METHOD:PUBLISH
VERSION:2.0
CALSCALE:GREGORIAN
PRODID:-//NONSGML WPForms//NONSGML Sugar Calendar Feeds v3.10.0//EN
X-WR-CALNAME:20.00 uur Opening sterrenkoepel
X-WR-CALDESC:Cygnus Gymnasium
X-WR-TIMEZONE:Europe/Amsterdam
BEGIN:VTIMEZONE
TZID:Europe/Amsterdam
BEGIN:STANDARD
TZOFFSETFROM:+0200
TZOFFSETTO:+0100
DTSTART:20251026T010000
TZNAME:CET
END:STANDARD
END:VTIMEZONE
BEGIN:VTIMEZONE
TZID:Europe/Amsterdam
BEGIN:STANDARD
TZOFFSETFROM:+0200
TZOFFSETTO:+0100
DTSTART:20251026T010000
TZNAME:CET
END:STANDARD
END:VTIMEZONE
BEGIN:VEVENT
SUMMARY:20.00 uur Opening sterrenkoepel
DESCRIPTION:Door Jim Jansen
URL;VALUE=URI:https://cygnusgymnasium.nl/events/opening-sterrenkoepel/
UID:urn:uuid:826dc878-a4de-4797-9d43-f6b3c62c3813
STATUS:CONFIRMED
ORGANIZER:
DTSTAMP:20260420T162629Z
DTSTART;TZID=Europe/Amsterdam:20260116T200000
DTEND;TZID=Europe/Amsterdam:20260116T220000
END:VEVENT
END:VCALENDAR