BEGIN:VCALENDAR
METHOD:PUBLISH
VERSION:2.0
CALSCALE:GREGORIAN
PRODID:-//NONSGML WPForms//NONSGML Sugar Calendar Feeds v3.10.0//EN
X-WR-CALNAME:online ouderavond BOF (geselecteerde kandidaten)
X-WR-CALDESC:Cygnus Gymnasium
X-WR-TIMEZONE:Europe/Amsterdam
BEGIN:VTIMEZONE
TZID:Europe/Amsterdam
BEGIN:STANDARD
TZOFFSETFROM:+0200
TZOFFSETTO:+0100
DTSTART:20241027T010000
TZNAME:CET
END:STANDARD
END:VTIMEZONE
BEGIN:VTIMEZONE
TZID:Europe/Amsterdam
BEGIN:STANDARD
TZOFFSETFROM:+0200
TZOFFSETTO:+0100
DTSTART:20241027T010000
TZNAME:CET
END:STANDARD
END:VTIMEZONE
BEGIN:VEVENT
SUMMARY:online ouderavond BOF (geselecteerde kandidaten)
DESCRIPTION:BOF staat voor Beter Omgaan met Faalangst\n\nDe ouderavond i
 s alleen voor geselecteerde leerlingen
URL;VALUE=URI:https://cygnusgymnasium.nl/events/online-ouderavond-bof-ge
 selecteerde-kandidaten/
UID:urn:uuid:85d9baf6-3c18-4dd9-89b2-d3a03e789f7d
STATUS:CONFIRMED
ORGANIZER:
DTSTAMP:20260421T200556Z
DTSTART;TZID=Europe/Amsterdam:20250127T193000
DTEND;TZID=Europe/Amsterdam:20250127T200000
END:VEVENT
END:VCALENDAR