BEGIN:VCALENDAR
METHOD:PUBLISH
VERSION:2.0
CALSCALE:GREGORIAN
PRODID:-//NONSGML WPForms//NONSGML Sugar Calendar Feeds v3.10.0//EN
X-WR-CALNAME:Lustrum.
X-WR-CALDESC:Cygnus Gymnasium
X-WR-TIMEZONE:Europe/Amsterdam
BEGIN:VTIMEZONE
TZID:Europe/Amsterdam
BEGIN:STANDARD
TZOFFSETFROM:+0200
TZOFFSETTO:+0100
DTSTART:20251026T010000
TZNAME:CET
END:STANDARD
END:VTIMEZONE
BEGIN:VTIMEZONE
TZID:Europe/Amsterdam
BEGIN:STANDARD
TZOFFSETFROM:+0200
TZOFFSETTO:+0100
DTSTART:20251026T010000
TZNAME:CET
END:STANDARD
END:VTIMEZONE
BEGIN:VEVENT
SUMMARY:Lustrum.
DESCRIPTION:Vrijdag 6 maart\nLes volgens rooster tot 12.10 uur\n12.10 uu
 r klassenactiviteit in lokaal\nDaarna gaat de hele school schaatsen op d
 e Jaap Edenbaan\n\nZaterdag 7 maart - inschrijven d.m.v. Forms formulier
  dat is rondgestuurd\n14.00 uur inloop Cygnus\n14.30-16.30 uur lesjes in
  4 rondes\n17.00 uur Welkomstwoord rector\n17.15 uur Borrel en hapjes\n1
 9.30 uur Afsluiting
URL;VALUE=URI:https://cygnusgymnasium.nl/events/lustrum/
UID:urn:uuid:3908bef3-18ef-4ba0-ba1c-82931de56cc2
STATUS:CONFIRMED
ORGANIZER:
DTSTAMP:20260419T213241Z
DTSTART;TZID=Europe/Amsterdam:20260306T121000
DTEND;TZID=Europe/Amsterdam:20260307T193000
END:VEVENT
END:VCALENDAR