BEGIN:VCALENDAR
METHOD:PUBLISH
VERSION:2.0
CALSCALE:GREGORIAN
PRODID:-//NONSGML WPForms//NONSGML Sugar Calendar Feeds v3.10.0//EN
X-WR-CALNAME:Lj6 SOK blok 1
X-WR-CALDESC:Cygnus Gymnasium
X-WR-TIMEZONE:Europe/Amsterdam
BEGIN:VTIMEZONE
TZID:Europe/Amsterdam
BEGIN:STANDARD
TZOFFSETFROM:+0200
TZOFFSETTO:+0100
DTSTART:20251026T010000
TZNAME:CET
END:STANDARD
END:VTIMEZONE
BEGIN:VTIMEZONE
TZID:Europe/Amsterdam
BEGIN:STANDARD
TZOFFSETFROM:+0200
TZOFFSETTO:+0100
DTSTART:20251026T010000
TZNAME:CET
END:STANDARD
END:VTIMEZONE
BEGIN:VEVENT
SUMMARY:Lj6 SOK blok 1
DESCRIPTION:Voeg een omschrijving toe
URL;VALUE=URI:https://cygnusgymnasium.nl/events/lj6-sok-blok-1/
UID:urn:uuid:f27b6c5e-5dce-410f-8308-5ac7a6cf2d51
STATUS:CONFIRMED
ORGANIZER:
DTSTAMP:20260423T104059Z
DTSTART;VALUE=DATE:20251030
END:VEVENT
END:VCALENDAR