BEGIN:VCALENDAR
METHOD:PUBLISH
VERSION:2.0
CALSCALE:GREGORIAN
PRODID:-//NONSGML WPForms//NONSGML Sugar Calendar Feeds v3.10.0//EN
X-WR-CALNAME:Lj6 Rome/Griekenland reis
X-WR-CALDESC:Cygnus Gymnasium
X-WR-TIMEZONE:Europe/Amsterdam
BEGIN:VTIMEZONE
TZID:Europe/Amsterdam
BEGIN:DAYLIGHT
TZOFFSETFROM:+0200
TZOFFSETTO:+0200
DTSTART:20240412T120000
TZNAME:CEST
END:DAYLIGHT
END:VTIMEZONE
BEGIN:VTIMEZONE
TZID:Europe/Amsterdam
BEGIN:DAYLIGHT
TZOFFSETFROM:+0200
TZOFFSETTO:+0200
DTSTART:20240412T120000
TZNAME:CEST
END:DAYLIGHT
END:VTIMEZONE
BEGIN:VEVENT
SUMMARY:Lj6 Rome/Griekenland reis
DESCRIPTION:Voeg een omschrijving toe
URL;VALUE=URI:https://cygnusgymnasium.nl/events/lj6-rome-griekenland-rei
 s-3/
UID:urn:uuid:d901a5ff-bb0b-4407-a31c-1a4d9d7c1cc2
STATUS:CONFIRMED
ORGANIZER:
DTSTAMP:20260422T043019Z
DTSTART;VALUE=DATE:20241012
END:VEVENT
END:VCALENDAR