BEGIN:VCALENDAR
METHOD:PUBLISH
VERSION:2.0
CALSCALE:GREGORIAN
PRODID:-//NONSGML WPForms//NONSGML Sugar Calendar Feeds v3.10.0//EN
X-WR-CALNAME:14.20 uur Lj6 PTA toets bio informatica
X-WR-CALDESC:Cygnus Gymnasium
X-WR-TIMEZONE:Europe/Amsterdam
BEGIN:VTIMEZONE
TZID:Europe/Amsterdam
BEGIN:STANDARD
TZOFFSETFROM:+0200
TZOFFSETTO:+0100
DTSTART:20251026T010000
TZNAME:CET
END:STANDARD
END:VTIMEZONE
BEGIN:VTIMEZONE
TZID:Europe/Amsterdam
BEGIN:STANDARD
TZOFFSETFROM:+0200
TZOFFSETTO:+0100
DTSTART:20251026T010000
TZNAME:CET
END:STANDARD
END:VTIMEZONE
BEGIN:VEVENT
SUMMARY:14.20 uur Lj6 PTA toets bio informatica
DESCRIPTION:
URL;VALUE=URI:https://cygnusgymnasium.nl/events/lj6-pta-toets-bio-inform
 atica/
UID:urn:uuid:841baa84-b54c-4c8a-9c58-372754d9e9b6
STATUS:CONFIRMED
ORGANIZER:
DTSTAMP:20260419T184146Z
DTSTART;TZID=Europe/Amsterdam:20260119T142000
DTEND;TZID=Europe/Amsterdam:20260119T151000
END:VEVENT
END:VCALENDAR