BEGIN:VCALENDAR
METHOD:PUBLISH
VERSION:2.0
CALSCALE:GREGORIAN
PRODID:-//NONSGML WPForms//NONSGML Sugar Calendar Feeds v3.10.0//EN
X-WR-CALNAME:Lj6 inhalen/herkansen PTA (lesuur 1 t/m 5 uitgeroosterd)
X-WR-CALDESC:Cygnus Gymnasium
X-WR-TIMEZONE:Europe/Amsterdam
BEGIN:VTIMEZONE
TZID:Europe/Amsterdam
BEGIN:STANDARD
TZOFFSETFROM:+0200
TZOFFSETTO:+0100
DTSTART:20251026T010000
TZNAME:CET
END:STANDARD
END:VTIMEZONE
BEGIN:VTIMEZONE
TZID:Europe/Amsterdam
BEGIN:STANDARD
TZOFFSETFROM:+0200
TZOFFSETTO:+0100
DTSTART:20251026T010000
TZNAME:CET
END:STANDARD
END:VTIMEZONE
BEGIN:VEVENT
SUMMARY:Lj6 inhalen/herkansen PTA (lesuur 1 t/m 5 uitgeroosterd)
DESCRIPTION:
URL;VALUE=URI:https://cygnusgymnasium.nl/events/lj6-inhalen-herkansen-pt
 a-lesuur-1-t-m-5-uitgeroosterd/
UID:urn:uuid:26ba6b11-073e-46b8-8c1e-ee99653d6e8c
STATUS:CONFIRMED
ORGANIZER:
DTSTAMP:20260420T163517Z
DTSTART;TZID=Europe/Amsterdam:20260112T082500
DTEND;TZID=Europe/Amsterdam:20260112T130000
END:VEVENT
END:VCALENDAR