BEGIN:VCALENDAR
METHOD:PUBLISH
VERSION:2.0
CALSCALE:GREGORIAN
PRODID:-//NONSGML WPForms//NONSGML Sugar Calendar Feeds v3.10.0//EN
X-WR-CALNAME:Lj6 19.00 uur sluiting Moodle inschrijving herkansingen
X-WR-CALDESC:Cygnus Gymnasium
X-WR-TIMEZONE:Europe/Amsterdam
BEGIN:VTIMEZONE
TZID:Europe/Amsterdam
BEGIN:STANDARD
TZOFFSETFROM:+0200
TZOFFSETTO:+0100
DTSTART:20251026T010000
TZNAME:CET
END:STANDARD
END:VTIMEZONE
BEGIN:VTIMEZONE
TZID:Europe/Amsterdam
BEGIN:STANDARD
TZOFFSETFROM:+0200
TZOFFSETTO:+0100
DTSTART:20251026T010000
TZNAME:CET
END:STANDARD
END:VTIMEZONE
BEGIN:VEVENT
SUMMARY:Lj6 19.00 uur sluiting Moodle inschrijving herkansingen
DESCRIPTION:
URL;VALUE=URI:https://cygnusgymnasium.nl/events/lj6-19-00-uur-sluiting-m
 oodle-inschrijving-herkansingen/
UID:urn:uuid:681eaa79-5442-4e10-86c6-02e68efe7f35
STATUS:CONFIRMED
ORGANIZER:
DTSTAMP:20260419T151614Z
DTSTART;TZID=Europe/Amsterdam:20260107T190000
DTEND;TZID=Europe/Amsterdam:20260107T200000
END:VEVENT
END:VCALENDAR