BEGIN:VCALENDAR
METHOD:PUBLISH
VERSION:2.0
CALSCALE:GREGORIAN
PRODID:-//NONSGML WPForms//NONSGML Sugar Calendar Feeds v3.10.0//EN
X-WR-CALNAME:LJ5 PO SCHK redoxchemie
X-WR-CALDESC:Cygnus Gymnasium
X-WR-TIMEZONE:Europe/Amsterdam
BEGIN:VTIMEZONE
TZID:Europe/Amsterdam
BEGIN:STANDARD
TZOFFSETFROM:+0200
TZOFFSETTO:+0100
DTSTART:20241027T010000
TZNAME:CET
END:STANDARD
END:VTIMEZONE
BEGIN:VTIMEZONE
TZID:Europe/Amsterdam
BEGIN:STANDARD
TZOFFSETFROM:+0200
TZOFFSETTO:+0100
DTSTART:20241027T010000
TZNAME:CET
END:STANDARD
END:VTIMEZONE
BEGIN:VEVENT
SUMMARY:LJ5 PO SCHK redoxchemie
DESCRIPTION:- groep 1 van 08.30-10.30 uur\n- groep 2 van 11.00-13.00 uur
URL;VALUE=URI:https://cygnusgymnasium.nl/events/lj5-po-schk-redoxchemie/
UID:urn:uuid:c706077b-bfd4-4455-9e79-fa099ffd3e8f
STATUS:CONFIRMED
ORGANIZER:
DTSTAMP:20260419T134921Z
DTSTART;TZID=Europe/Amsterdam:20250214T083000
DTEND;TZID=Europe/Amsterdam:20250214T130000
END:VEVENT
END:VCALENDAR