BEGIN:VCALENDAR
METHOD:PUBLISH
VERSION:2.0
CALSCALE:GREGORIAN
PRODID:-//NONSGML WPForms//NONSGML Sugar Calendar Feeds v3.10.0//EN
X-WR-CALNAME:10.10 uur Lj5 NLT SE toets
X-WR-CALDESC:Cygnus Gymnasium
X-WR-TIMEZONE:Europe/Amsterdam
BEGIN:VTIMEZONE
TZID:Europe/Amsterdam
BEGIN:STANDARD
TZOFFSETFROM:+0200
TZOFFSETTO:+0100
DTSTART:20251026T010000
TZNAME:CET
END:STANDARD
END:VTIMEZONE
BEGIN:VTIMEZONE
TZID:Europe/Amsterdam
BEGIN:STANDARD
TZOFFSETFROM:+0200
TZOFFSETTO:+0100
DTSTART:20251026T010000
TZNAME:CET
END:STANDARD
END:VTIMEZONE
BEGIN:VEVENT
SUMMARY:10.10 uur Lj5 NLT SE toets
DESCRIPTION:
URL;VALUE=URI:https://cygnusgymnasium.nl/events/lj5-nlt-se-toets/
UID:urn:uuid:a62b6331-ba0b-46c2-b9e4-567247ba6a00
STATUS:CONFIRMED
ORGANIZER:
DTSTAMP:20260419T165334Z
DTSTART;TZID=Europe/Amsterdam:20251029T101000
DTEND;TZID=Europe/Amsterdam:20251029T110000
END:VEVENT
END:VCALENDAR