BEGIN:VCALENDAR
METHOD:PUBLISH
VERSION:2.0
CALSCALE:GREGORIAN
PRODID:-//NONSGML WPForms//NONSGML Sugar Calendar Feeds v3.10.0//EN
X-WR-CALNAME:Lj5 naar Den Haag (Tweede Kamer)
X-WR-CALDESC:Cygnus Gymnasium
X-WR-TIMEZONE:Europe/Amsterdam
BEGIN:VTIMEZONE
TZID:Europe/Amsterdam
BEGIN:STANDARD
TZOFFSETFROM:+0200
TZOFFSETTO:+0100
DTSTART:20251026T010000
TZNAME:CET
END:STANDARD
END:VTIMEZONE
BEGIN:VTIMEZONE
TZID:Europe/Amsterdam
BEGIN:STANDARD
TZOFFSETFROM:+0200
TZOFFSETTO:+0100
DTSTART:20251026T010000
TZNAME:CET
END:STANDARD
END:VTIMEZONE
BEGIN:VEVENT
SUMMARY:Lj5 naar Den Haag (Tweede Kamer)
DESCRIPTION:De eerste bus vertrekt om 08.15 uur\nDe tweede bus vertrekt 
 om 09.00 uur
URL;VALUE=URI:https://cygnusgymnasium.nl/events/lj5-naar-den-haag-tweede
 -kamer/
UID:urn:uuid:cd8a1318-c87e-4672-8f90-2e28a94f7b4a
STATUS:CONFIRMED
ORGANIZER:
DTSTAMP:20260420T133106Z
DTSTART;TZID=Europe/Amsterdam:20260106T081500
DTEND;TZID=Europe/Amsterdam:20260106T170000
END:VEVENT
END:VCALENDAR