BEGIN:VCALENDAR
METHOD:PUBLISH
VERSION:2.0
CALSCALE:GREGORIAN
PRODID:-//NONSGML WPForms//NONSGML Sugar Calendar Feeds v3.10.0//EN
X-WR-CALNAME:Lj5 MA PTA toets (rechtszaak)
X-WR-CALDESC:Cygnus Gymnasium
X-WR-TIMEZONE:Europe/Amsterdam
BEGIN:VTIMEZONE
TZID:Europe/Amsterdam
BEGIN:STANDARD
TZOFFSETFROM:+0200
TZOFFSETTO:+0100
DTSTART:20251026T010000
TZNAME:CET
END:STANDARD
END:VTIMEZONE
BEGIN:VTIMEZONE
TZID:Europe/Amsterdam
BEGIN:STANDARD
TZOFFSETFROM:+0200
TZOFFSETTO:+0100
DTSTART:20251026T010000
TZNAME:CET
END:STANDARD
END:VTIMEZONE
BEGIN:VEVENT
SUMMARY:Lj5 MA PTA toets (rechtszaak)
DESCRIPTION:
URL;VALUE=URI:https://cygnusgymnasium.nl/events/lj5-ma-pta-toets-rechtsz
 aak/
UID:urn:uuid:c2320ebf-6ade-48b2-97c1-a76723d8a82d
STATUS:CONFIRMED
ORGANIZER:
DTSTAMP:20260420T212016Z
DTSTART;VALUE=DATE:20260122
END:VEVENT
END:VCALENDAR