BEGIN:VCALENDAR
METHOD:PUBLISH
VERSION:2.0
CALSCALE:GREGORIAN
PRODID:-//NONSGML WPForms//NONSGML Sugar Calendar Feeds v3.10.0//EN
X-WR-CALNAME:Lj5 MA PTA toets (de wet)
X-WR-CALDESC:Cygnus Gymnasium
X-WR-TIMEZONE:Europe/Amsterdam
BEGIN:VTIMEZONE
TZID:Europe/Amsterdam
BEGIN:STANDARD
TZOFFSETFROM:+0200
TZOFFSETTO:+0100
DTSTART:20251026T010000
TZNAME:CET
END:STANDARD
END:VTIMEZONE
BEGIN:VTIMEZONE
TZID:Europe/Amsterdam
BEGIN:STANDARD
TZOFFSETFROM:+0200
TZOFFSETTO:+0100
DTSTART:20251026T010000
TZNAME:CET
END:STANDARD
END:VTIMEZONE
BEGIN:VEVENT
SUMMARY:Lj5 MA PTA toets (de wet)
DESCRIPTION:
URL;VALUE=URI:https://cygnusgymnasium.nl/events/lj5-ma-pta-toets-de-wet/
UID:urn:uuid:8562938e-9305-407f-90fb-a444f1d271ae
STATUS:CONFIRMED
ORGANIZER:
DTSTAMP:20260421T115357Z
DTSTART;VALUE=DATE:20251203
END:VEVENT
END:VCALENDAR