BEGIN:VCALENDAR
METHOD:PUBLISH
VERSION:2.0
CALSCALE:GREGORIAN
PRODID:-//NONSGML WPForms//NONSGML Sugar Calendar Feeds v3.10.0//EN
X-WR-CALNAME:Lj5 afsluiting met mentor (verplichte aanwezigheid)
X-WR-CALDESC:Cygnus Gymnasium
X-WR-TIMEZONE:Europe/Amsterdam
BEGIN:VTIMEZONE
TZID:Europe/Amsterdam
BEGIN:DAYLIGHT
TZOFFSETFROM:+0100
TZOFFSETTO:+0200
DTSTART:20250330T010000
TZNAME:CEST
END:DAYLIGHT
END:VTIMEZONE
BEGIN:VTIMEZONE
TZID:Europe/Amsterdam
BEGIN:DAYLIGHT
TZOFFSETFROM:+0100
TZOFFSETTO:+0200
DTSTART:20250330T010000
TZNAME:CEST
END:DAYLIGHT
END:VTIMEZONE
BEGIN:VEVENT
SUMMARY:Lj5 afsluiting met mentor (verplichte aanwezigheid)
DESCRIPTION:Voeg een omschrijving toe
URL;VALUE=URI:https://cygnusgymnasium.nl/events/lj5-afsluiting-met-mento
 r-verplichte-aanwezigheid/
UID:urn:uuid:415fc401-6cee-442a-9cc4-a2e006d4c608
STATUS:CONFIRMED
ORGANIZER:
DTSTAMP:20260423T134925Z
DTSTART;TZID=Europe/Amsterdam:20250710T120000
DTEND;TZID=Europe/Amsterdam:20250710T142000
END:VEVENT
END:VCALENDAR