BEGIN:VCALENDAR
METHOD:PUBLISH
VERSION:2.0
CALSCALE:GREGORIAN
PRODID:-//NONSGML WPForms//NONSGML Sugar Calendar Feeds v3.10.0//EN
X-WR-CALNAME:Lj4 workshop karate in dojo
X-WR-CALDESC:Cygnus Gymnasium
X-WR-TIMEZONE:Europe/Amsterdam
BEGIN:VTIMEZONE
TZID:Europe/Amsterdam
BEGIN:STANDARD
TZOFFSETFROM:+0200
TZOFFSETTO:+0100
DTSTART:20241027T010000
TZNAME:CET
END:STANDARD
END:VTIMEZONE
BEGIN:VTIMEZONE
TZID:Europe/Amsterdam
BEGIN:STANDARD
TZOFFSETFROM:+0200
TZOFFSETTO:+0100
DTSTART:20241027T010000
TZNAME:CET
END:STANDARD
END:VTIMEZONE
BEGIN:VEVENT
SUMMARY:Lj4 workshop karate in dojo
DESCRIPTION:Voeg een omschrijving toe
URL;VALUE=URI:https://cygnusgymnasium.nl/events/lj4-workshop-karate-in-d
 ojo/
UID:urn:uuid:f6d8a500-ec54-461f-9faf-bef54ea402e7
STATUS:CONFIRMED
ORGANIZER:
DTSTAMP:20260425T115258Z
DTSTART;TZID=Europe/Amsterdam:20250224T092000
DTEND;TZID=Europe/Amsterdam:20250224T110000
END:VEVENT
END:VCALENDAR