BEGIN:VCALENDAR
METHOD:PUBLISH
VERSION:2.0
CALSCALE:GREGORIAN
PRODID:-//NONSGML WPForms//NONSGML Sugar Calendar Feeds v3.10.0//EN
X-WR-CALNAME:Lj4 (G4.econ3) naar DNB
X-WR-CALDESC:Cygnus Gymnasium
X-WR-TIMEZONE:Europe/Amsterdam
BEGIN:VTIMEZONE
TZID:Europe/Amsterdam
BEGIN:STANDARD
TZOFFSETFROM:+0200
TZOFFSETTO:+0100
DTSTART:20241027T010000
TZNAME:CET
END:STANDARD
BEGIN:DAYLIGHT
TZOFFSETFROM:+0100
TZOFFSETTO:+0200
DTSTART:20250330T010000
TZNAME:CEST
END:DAYLIGHT
END:VTIMEZONE
BEGIN:VTIMEZONE
TZID:Europe/Amsterdam
BEGIN:STANDARD
TZOFFSETFROM:+0200
TZOFFSETTO:+0100
DTSTART:20241027T010000
TZNAME:CET
END:STANDARD
BEGIN:DAYLIGHT
TZOFFSETFROM:+0100
TZOFFSETTO:+0200
DTSTART:20250330T010000
TZNAME:CEST
END:DAYLIGHT
END:VTIMEZONE
BEGIN:VEVENT
SUMMARY:Lj4 (G4.econ3) naar DNB
DESCRIPTION:Deze leerlingen missen een deel van het 7e en 9e uur de ande
 re lessen (als ze al niet vrij zijn)
URL;VALUE=URI:https://cygnusgymnasium.nl/events/lj4-g4-econ3-naar-dnb/
UID:urn:uuid:c5b81f46-4c52-41e9-9ace-2f07524762e9
STATUS:CONFIRMED
ORGANIZER:
DTSTAMP:20260421T133357Z
DTSTART;TZID=Europe/Amsterdam:20250409T150000
DTEND;TZID=Europe/Amsterdam:20250409T170000
END:VEVENT
END:VCALENDAR