BEGIN:VCALENDAR
METHOD:PUBLISH
VERSION:2.0
CALSCALE:GREGORIAN
PRODID:-//NONSGML WPForms//NONSGML Sugar Calendar Feeds v3.10.0//EN
X-WR-CALNAME:Lj4 (FI) PO
X-WR-CALDESC:Cygnus Gymnasium
X-WR-TIMEZONE:Europe/Amsterdam
BEGIN:VTIMEZONE
TZID:Europe/Amsterdam
BEGIN:DAYLIGHT
TZOFFSETFROM:+0100
TZOFFSETTO:+0200
DTSTART:20250330T010000
TZNAME:CEST
END:DAYLIGHT
END:VTIMEZONE
BEGIN:VTIMEZONE
TZID:Europe/Amsterdam
BEGIN:DAYLIGHT
TZOFFSETFROM:+0100
TZOFFSETTO:+0200
DTSTART:20250330T010000
TZNAME:CEST
END:DAYLIGHT
END:VTIMEZONE
BEGIN:VEVENT
SUMMARY:Lj4 (FI) PO
DESCRIPTION:zie rooster in Zermelo
URL;VALUE=URI:https://cygnusgymnasium.nl/events/lj4-fi-po/
UID:urn:uuid:4504d7a6-1b45-4caf-9bc0-7a0c3a9d587d
STATUS:CONFIRMED
ORGANIZER:
DTSTAMP:20260422T073922Z
DTSTART;VALUE=DATE:20250605
END:VEVENT
END:VCALENDAR