BEGIN:VCALENDAR
METHOD:PUBLISH
VERSION:2.0
CALSCALE:GREGORIAN
PRODID:-//NONSGML WPForms//NONSGML Sugar Calendar Feeds v3.10.0//EN
X-WR-CALNAME:Lj2 naar Lille
X-WR-CALDESC:Cygnus Gymnasium
X-WR-TIMEZONE:Europe/Amsterdam
BEGIN:VTIMEZONE
TZID:Europe/Amsterdam
BEGIN:DAYLIGHT
TZOFFSETFROM:+0100
TZOFFSETTO:+0200
DTSTART:20260329T010000
TZNAME:CEST
END:DAYLIGHT
END:VTIMEZONE
BEGIN:VTIMEZONE
TZID:Europe/Amsterdam
BEGIN:DAYLIGHT
TZOFFSETFROM:+0100
TZOFFSETTO:+0200
DTSTART:20260329T010000
TZNAME:CEST
END:DAYLIGHT
END:VTIMEZONE
BEGIN:VEVENT
SUMMARY:Lj2 naar Lille
DESCRIPTION:
URL;VALUE=URI:https://cygnusgymnasium.nl/events/lj2-naar-lille-2/
UID:urn:uuid:55e8dcbe-0118-4d2c-bfdd-a2627ec500b7
STATUS:CONFIRMED
ORGANIZER:
DTSTAMP:20260420T000317Z
DTSTART;VALUE=DATE:20260513
END:VEVENT
END:VCALENDAR