BEGIN:VCALENDAR
METHOD:PUBLISH
VERSION:2.0
CALSCALE:GREGORIAN
PRODID:-//NONSGML WPForms//NONSGML Sugar Calendar Feeds v3.10.0//EN
X-WR-CALNAME:Lj1 Schrijversbezoek Gideon Samson
X-WR-CALDESC:Cygnus Gymnasium
X-WR-TIMEZONE:Europe/Amsterdam
BEGIN:VTIMEZONE
TZID:Europe/Amsterdam
BEGIN:STANDARD
TZOFFSETFROM:+0200
TZOFFSETTO:+0100
DTSTART:20251026T010000
TZNAME:CET
END:STANDARD
END:VTIMEZONE
BEGIN:VTIMEZONE
TZID:Europe/Amsterdam
BEGIN:STANDARD
TZOFFSETFROM:+0200
TZOFFSETTO:+0100
DTSTART:20251026T010000
TZNAME:CET
END:STANDARD
END:VTIMEZONE
BEGIN:VEVENT
SUMMARY:Lj1 Schrijversbezoek Gideon Samson
DESCRIPTION:3e uur klas 1D en 1E\n4e uur klas 1F en 1C\n5e uur klas 1A e
 n 1B
URL;VALUE=URI:https://cygnusgymnasium.nl/events/lj1-schrijversbezoek-gid
 eon-samson/
UID:urn:uuid:3ce25d85-5689-44e1-a3f7-816c5293c859
STATUS:CONFIRMED
ORGANIZER:
DTSTAMP:20260420T080444Z
DTSTART;TZID=Europe/Amsterdam:20260115T100000
DTEND;TZID=Europe/Amsterdam:20260115T130000
END:VEVENT
END:VCALENDAR