BEGIN:VCALENDAR
METHOD:PUBLISH
VERSION:2.0
CALSCALE:GREGORIAN
PRODID:-//NONSGML WPForms//NONSGML Sugar Calendar Feeds v3.10.0//EN
X-WR-CALNAME:Lj 6 KUA naar Rijksmuseum
X-WR-CALDESC:Cygnus Gymnasium
X-WR-TIMEZONE:Europe/Amsterdam
BEGIN:VTIMEZONE
TZID:Europe/Amsterdam
BEGIN:STANDARD
TZOFFSETFROM:+0200
TZOFFSETTO:+0100
DTSTART:20251026T010000
TZNAME:CET
END:STANDARD
END:VTIMEZONE
BEGIN:VTIMEZONE
TZID:Europe/Amsterdam
BEGIN:STANDARD
TZOFFSETFROM:+0200
TZOFFSETTO:+0100
DTSTART:20251026T010000
TZNAME:CET
END:STANDARD
END:VTIMEZONE
BEGIN:VEVENT
SUMMARY:Lj 6 KUA naar Rijksmuseum
DESCRIPTION:Om 08.50 uur verzamelen bij het Rijksmuseum
URL;VALUE=URI:https://cygnusgymnasium.nl/events/lj-6-kua-naar-rijksmuseu
 m/
UID:urn:uuid:7392d8d9-b1ea-44ed-b5ff-30a418039906
STATUS:CONFIRMED
ORGANIZER:
DTSTAMP:20260420T035041Z
DTSTART;TZID=Europe/Amsterdam:20251118T083000
DTEND;TZID=Europe/Amsterdam:20251118T121000
END:VEVENT
END:VCALENDAR