BEGIN:VCALENDAR
METHOD:PUBLISH
VERSION:2.0
CALSCALE:GREGORIAN
PRODID:-//NONSGML WPForms//NONSGML Sugar Calendar Feeds v3.10.0//EN
X-WR-CALNAME:Alle leerlingen lesvrij - onderwijsontwikkeldag
X-WR-CALDESC:Cygnus Gymnasium
X-WR-TIMEZONE:Europe/Amsterdam
BEGIN:VTIMEZONE
TZID:Europe/Amsterdam
BEGIN:STANDARD
TZOFFSETFROM:+0200
TZOFFSETTO:+0100
DTSTART:20251026T010000
TZNAME:CET
END:STANDARD
END:VTIMEZONE
BEGIN:VTIMEZONE
TZID:Europe/Amsterdam
BEGIN:STANDARD
TZOFFSETFROM:+0200
TZOFFSETTO:+0100
DTSTART:20251026T010000
TZNAME:CET
END:STANDARD
END:VTIMEZONE
BEGIN:VEVENT
SUMMARY:Alle leerlingen lesvrij - onderwijsontwikkeldag
DESCRIPTION:
URL;VALUE=URI:https://cygnusgymnasium.nl/events/leerlingen-lesvrij-onder
 wijsontwikkeldag/
UID:urn:uuid:f5e3ca30-5c08-4ed0-bc2a-267b87aa69d3
STATUS:CONFIRMED
ORGANIZER:
DTSTAMP:20260421T085538Z
DTSTART;VALUE=DATE:20251127
END:VEVENT
END:VCALENDAR