BEGIN:VCALENDAR
METHOD:PUBLISH
VERSION:2.0
CALSCALE:GREGORIAN
PRODID:-//NONSGML WPForms//NONSGML Sugar Calendar Feeds v3.10.0//EN
X-WR-CALNAME:Kijk- en Luistertoets (KLT) Duits
X-WR-CALDESC:Cygnus Gymnasium
X-WR-TIMEZONE:Europe/Amsterdam
BEGIN:VTIMEZONE
TZID:Europe/Amsterdam
BEGIN:STANDARD
TZOFFSETFROM:+0200
TZOFFSETTO:+0100
DTSTART:20251026T010000
TZNAME:CET
END:STANDARD
END:VTIMEZONE
BEGIN:VTIMEZONE
TZID:Europe/Amsterdam
BEGIN:STANDARD
TZOFFSETFROM:+0200
TZOFFSETTO:+0100
DTSTART:20251026T010000
TZNAME:CET
END:STANDARD
END:VTIMEZONE
BEGIN:VEVENT
SUMMARY:Kijk- en Luistertoets (KLT) Duits
DESCRIPTION:
URL;VALUE=URI:https://cygnusgymnasium.nl/events/kijk-en-luistertoets-klt
 -duits/
UID:urn:uuid:1ac0d4e0-d7cd-4c8c-93a5-6d27325968f1
STATUS:CONFIRMED
ORGANIZER:
DTSTAMP:20260420T193206Z
DTSTART;VALUE=DATE:20260119
END:VEVENT
END:VCALENDAR