BEGIN:VCALENDAR
METHOD:PUBLISH
VERSION:2.0
CALSCALE:GREGORIAN
PRODID:-//NONSGML WPForms//NONSGML Sugar Calendar Feeds v3.10.0//EN
X-WR-CALNAME:Kennismakingsdag groep 8 + fotograaf
X-WR-CALDESC:Cygnus Gymnasium
X-WR-TIMEZONE:Europe/Amsterdam
BEGIN:VTIMEZONE
TZID:Europe/Amsterdam
BEGIN:DAYLIGHT
TZOFFSETFROM:+0100
TZOFFSETTO:+0200
DTSTART:20260329T010000
TZNAME:CEST
END:DAYLIGHT
END:VTIMEZONE
BEGIN:VTIMEZONE
TZID:Europe/Amsterdam
BEGIN:DAYLIGHT
TZOFFSETFROM:+0100
TZOFFSETTO:+0200
DTSTART:20260329T010000
TZNAME:CEST
END:DAYLIGHT
END:VTIMEZONE
BEGIN:VEVENT
SUMMARY:Kennismakingsdag groep 8 + fotograaf
DESCRIPTION:
URL;VALUE=URI:https://cygnusgymnasium.nl/events/kennismakingsdag-groep-8
 -fotograaf/
UID:urn:uuid:97ff84bd-2618-4547-b0f5-6997a8b5ec9f
STATUS:CONFIRMED
ORGANIZER:
DTSTAMP:20260421T022953Z
DTSTART;VALUE=DATE:20260624
END:VEVENT
END:VCALENDAR