BEGIN:VCALENDAR
METHOD:PUBLISH
VERSION:2.0
CALSCALE:GREGORIAN
PRODID:-//NONSGML WPForms//NONSGML Sugar Calendar Feeds v3.10.0//EN
X-WR-CALNAME:CSE 2 - met NE\, EC en WI A+C
X-WR-CALDESC:Cygnus Gymnasium
X-WR-TIMEZONE:Europe/Amsterdam
BEGIN:VTIMEZONE
TZID:Europe/Amsterdam
BEGIN:DAYLIGHT
TZOFFSETFROM:+0100
TZOFFSETTO:+0200
DTSTART:20260329T010000
TZNAME:CEST
END:DAYLIGHT
END:VTIMEZONE
BEGIN:VTIMEZONE
TZID:Europe/Amsterdam
BEGIN:DAYLIGHT
TZOFFSETFROM:+0100
TZOFFSETTO:+0200
DTSTART:20260329T010000
TZNAME:CEST
END:DAYLIGHT
END:VTIMEZONE
BEGIN:VEVENT
SUMMARY:CSE 2 - met NE\, EC en WI A+C
DESCRIPTION:NE van 13.30-16.30 uur\nEC van 13.30-16.30 uur\nWI A+C van 1
 3.30-16.30 uur
URL;VALUE=URI:https://cygnusgymnasium.nl/events/cse-2-met-ne-ec-en-wi-ac
 /
UID:urn:uuid:fec170b4-3025-44cf-928e-6693f1620e10
STATUS:CONFIRMED
ORGANIZER:
DTSTAMP:20260419T122845Z
DTSTART;TZID=Europe/Amsterdam:20260617T133000
DTEND;TZID=Europe/Amsterdam:20260617T163000
END:VEVENT
END:VCALENDAR