BEGIN:VCALENDAR
METHOD:PUBLISH
VERSION:2.0
CALSCALE:GREGORIAN
PRODID:-//NONSGML WPForms//NONSGML Sugar Calendar Feeds v3.10.0//EN
X-WR-CALNAME:CSE 2 - met GS\, AK en WI B
X-WR-CALDESC:Cygnus Gymnasium
X-WR-TIMEZONE:Europe/Amsterdam
BEGIN:VTIMEZONE
TZID:Europe/Amsterdam
BEGIN:DAYLIGHT
TZOFFSETFROM:+0100
TZOFFSETTO:+0200
DTSTART:20260329T010000
TZNAME:CEST
END:DAYLIGHT
END:VTIMEZONE
BEGIN:VTIMEZONE
TZID:Europe/Amsterdam
BEGIN:DAYLIGHT
TZOFFSETFROM:+0100
TZOFFSETTO:+0200
DTSTART:20260329T010000
TZNAME:CEST
END:DAYLIGHT
END:VTIMEZONE
BEGIN:VEVENT
SUMMARY:CSE 2 - met GS\, AK en WI B
DESCRIPTION:GS van 13.30-16.30 uur\nAK van 13.30-16.30 uur\nWI B van 13.
 30-16.30 uur
URL;VALUE=URI:https://cygnusgymnasium.nl/events/cse-2-met-gs-ak-en-wi-b/
UID:urn:uuid:94203054-5bd8-445a-bebe-3ee1c3c71b37
STATUS:CONFIRMED
ORGANIZER:
DTSTAMP:20260419T141302Z
DTSTART;TZID=Europe/Amsterdam:20260618T133000
DTEND;TZID=Europe/Amsterdam:20260618T163000
END:VEVENT
END:VCALENDAR