BEGIN:VCALENDAR
METHOD:PUBLISH
VERSION:2.0
CALSCALE:GREGORIAN
PRODID:-//NONSGML WPForms//NONSGML Sugar Calendar Feeds v3.10.0//EN
X-WR-CALNAME:CSE 2 - met FI en KUA
X-WR-CALDESC:Cygnus Gymnasium
X-WR-TIMEZONE:Europe/Amsterdam
BEGIN:VTIMEZONE
TZID:Europe/Amsterdam
BEGIN:DAYLIGHT
TZOFFSETFROM:+0100
TZOFFSETTO:+0200
DTSTART:20260329T010000
TZNAME:CEST
END:DAYLIGHT
END:VTIMEZONE
BEGIN:VTIMEZONE
TZID:Europe/Amsterdam
BEGIN:DAYLIGHT
TZOFFSETFROM:+0100
TZOFFSETTO:+0200
DTSTART:20260329T010000
TZNAME:CEST
END:DAYLIGHT
END:VTIMEZONE
BEGIN:VEVENT
SUMMARY:CSE 2 - met FI en KUA
DESCRIPTION:FI van 13.30-16.30 uur\nKUA van 13.30-16.30 uur
URL;VALUE=URI:https://cygnusgymnasium.nl/events/cse-2-met-fi-en-kua/
UID:urn:uuid:8a088c86-ef4e-4dc0-8fe5-5c6c1e3950a5
STATUS:CONFIRMED
ORGANIZER:
DTSTAMP:20260419T155845Z
DTSTART;TZID=Europe/Amsterdam:20260619T133000
DTEND;TZID=Europe/Amsterdam:20260619T163000
END:VEVENT
END:VCALENDAR