BEGIN:VCALENDAR
METHOD:PUBLISH
VERSION:2.0
CALSCALE:GREGORIAN
PRODID:-//NONSGML WPForms//NONSGML Sugar Calendar Feeds v3.10.0//EN
X-WR-CALNAME:CSE 2 - met EN en LA
X-WR-CALDESC:Cygnus Gymnasium
X-WR-TIMEZONE:Europe/Amsterdam
BEGIN:VTIMEZONE
TZID:Europe/Amsterdam
BEGIN:DAYLIGHT
TZOFFSETFROM:+0100
TZOFFSETTO:+0200
DTSTART:20260329T010000
TZNAME:CEST
END:DAYLIGHT
END:VTIMEZONE
BEGIN:VTIMEZONE
TZID:Europe/Amsterdam
BEGIN:DAYLIGHT
TZOFFSETFROM:+0100
TZOFFSETTO:+0200
DTSTART:20260329T010000
TZNAME:CEST
END:DAYLIGHT
END:VTIMEZONE
BEGIN:VEVENT
SUMMARY:CSE 2 - met EN en LA
DESCRIPTION:EN van 13.30-16.00 uur\nLA van 13.30-16.30 uur
URL;VALUE=URI:https://cygnusgymnasium.nl/events/cse-2-met-en-en-la/
UID:urn:uuid:7e57de33-06ae-43be-8906-7b03e6f1e8d6
STATUS:CONFIRMED
ORGANIZER:
DTSTAMP:20260419T173946Z
DTSTART;TZID=Europe/Amsterdam:20260622T133000
DTEND;TZID=Europe/Amsterdam:20260622T163000
END:VEVENT
END:VCALENDAR