BEGIN:VCALENDAR
METHOD:PUBLISH
VERSION:2.0
CALSCALE:GREGORIAN
PRODID:-//NONSGML WPForms//NONSGML Sugar Calendar Feeds v3.10.0//EN
X-WR-CALNAME:CSE 2 - met DU\, BIO en MA
X-WR-CALDESC:Cygnus Gymnasium
X-WR-TIMEZONE:Europe/Amsterdam
BEGIN:VTIMEZONE
TZID:Europe/Amsterdam
BEGIN:DAYLIGHT
TZOFFSETFROM:+0100
TZOFFSETTO:+0200
DTSTART:20260329T010000
TZNAME:CEST
END:DAYLIGHT
END:VTIMEZONE
BEGIN:VTIMEZONE
TZID:Europe/Amsterdam
BEGIN:DAYLIGHT
TZOFFSETFROM:+0100
TZOFFSETTO:+0200
DTSTART:20260329T010000
TZNAME:CEST
END:DAYLIGHT
END:VTIMEZONE
BEGIN:VEVENT
SUMMARY:CSE 2 - met DU\, BIO en MA
DESCRIPTION:DU van 13.30-16.00 uur\nBIO van 13.30-16.30 uur\nMA van 13.3
 0-16.30 uur
URL;VALUE=URI:https://cygnusgymnasium.nl/events/cse-2-met-du-bio-en-ma/
UID:urn:uuid:ffc2774a-0e2b-494c-a061-53f63884a244
STATUS:CONFIRMED
ORGANIZER:
DTSTAMP:20260419T194421Z
DTSTART;TZID=Europe/Amsterdam:20260623T133000
DTEND;TZID=Europe/Amsterdam:20260623T163000
END:VEVENT
END:VCALENDAR