BEGIN:VCALENDAR
METHOD:PUBLISH
VERSION:2.0
CALSCALE:GREGORIAN
PRODID:-//NONSGML WPForms//NONSGML Sugar Calendar Feeds v3.10.0//EN
X-WR-CALNAME:CG1A schaatsen
X-WR-CALDESC:Cygnus Gymnasium
X-WR-TIMEZONE:Europe/Amsterdam
BEGIN:VTIMEZONE
TZID:Europe/Amsterdam
BEGIN:STANDARD
TZOFFSETFROM:+0200
TZOFFSETTO:+0100
DTSTART:20241027T010000
TZNAME:CET
END:STANDARD
END:VTIMEZONE
BEGIN:VTIMEZONE
TZID:Europe/Amsterdam
BEGIN:STANDARD
TZOFFSETFROM:+0200
TZOFFSETTO:+0100
DTSTART:20241027T010000
TZNAME:CET
END:STANDARD
END:VTIMEZONE
BEGIN:VEVENT
SUMMARY:CG1A schaatsen
DESCRIPTION:bij de Jaap Edenbaan
URL;VALUE=URI:https://cygnusgymnasium.nl/events/cg1a-schaatsen/
UID:urn:uuid:7bda9806-785a-4071-8f79-4e340f61b22e
STATUS:CONFIRMED
ORGANIZER:
DTSTAMP:20260421T102027Z
DTSTART;TZID=Europe/Amsterdam:20250207T121000
DTEND;TZID=Europe/Amsterdam:20250207T163000
END:VEVENT
END:VCALENDAR