BEGIN:VCALENDAR
METHOD:PUBLISH
VERSION:2.0
CALSCALE:GREGORIAN
PRODID:-//NONSGML WPForms//NONSGML Sugar Calendar Feeds v3.10.0//EN
X-WR-CALNAME:CE2 - 13.30 uur Frans\, NA\, SK
X-WR-CALDESC:Cygnus Gymnasium
X-WR-TIMEZONE:Europe/Amsterdam
BEGIN:VTIMEZONE
TZID:Europe/Amsterdam
BEGIN:DAYLIGHT
TZOFFSETFROM:+0100
TZOFFSETTO:+0200
DTSTART:20250330T010000
TZNAME:CEST
END:DAYLIGHT
END:VTIMEZONE
BEGIN:VTIMEZONE
TZID:Europe/Amsterdam
BEGIN:DAYLIGHT
TZOFFSETFROM:+0100
TZOFFSETTO:+0200
DTSTART:20250330T010000
TZNAME:CEST
END:DAYLIGHT
END:VTIMEZONE
BEGIN:VEVENT
SUMMARY:CE2 - 13.30 uur Frans\, NA\, SK
DESCRIPTION:Voeg een omschrijving toe
URL;VALUE=URI:https://cygnusgymnasium.nl/events/ce2-13-30-uur-frans-na-s
 k/
UID:urn:uuid:a1b52ebf-38b6-41e7-aa44-00e6fc369b57
STATUS:CONFIRMED
ORGANIZER:
DTSTAMP:20260421T201921Z
DTSTART;TZID=Europe/Amsterdam:20250617T133000
DTEND;TZID=Europe/Amsterdam:20250617T163000
END:VEVENT
END:VCALENDAR