BEGIN:VCALENDAR
METHOD:PUBLISH
VERSION:2.0
CALSCALE:GREGORIAN
PRODID:-//NONSGML WPForms//NONSGML Sugar Calendar Feeds v3.10.0//EN
X-WR-CALNAME:BOF (bewust omgaan met faalangst)
X-WR-CALDESC:Cygnus Gymnasium
X-WR-TIMEZONE:Europe/Amsterdam
BEGIN:VTIMEZONE
TZID:Europe/Amsterdam
BEGIN:STANDARD
TZOFFSETFROM:+0200
TZOFFSETTO:+0100
DTSTART:20251026T010000
TZNAME:CET
END:STANDARD
END:VTIMEZONE
BEGIN:VTIMEZONE
TZID:Europe/Amsterdam
BEGIN:STANDARD
TZOFFSETFROM:+0200
TZOFFSETTO:+0100
DTSTART:20251026T010000
TZNAME:CET
END:STANDARD
END:VTIMEZONE
BEGIN:VEVENT
SUMMARY:BOF (bewust omgaan met faalangst)
DESCRIPTION:
URL;VALUE=URI:https://cygnusgymnasium.nl/events/bof-bewust-omgaan-met-fa
 alangst-7/
UID:urn:uuid:ec098542-46a5-4a49-b333-1b7f097a4313
STATUS:CONFIRMED
ORGANIZER:
DTSTAMP:20260419T141540Z
DTSTART;TZID=Europe/Amsterdam:20260323T152000
DTEND;TZID=Europe/Amsterdam:20260323T170000
END:VEVENT
END:VCALENDAR