BEGIN:VCALENDAR
METHOD:PUBLISH
VERSION:2.0
CALSCALE:GREGORIAN
PRODID:-//NONSGML WPForms//NONSGML Sugar Calendar Feeds v3.10.0//EN
X-WR-CALNAME:BOF (bewust omgaan met faalangst)
X-WR-CALDESC:Cygnus Gymnasium
X-WR-TIMEZONE:Europe/Amsterdam
BEGIN:VTIMEZONE
TZID:Europe/Amsterdam
BEGIN:STANDARD
TZOFFSETFROM:+0200
TZOFFSETTO:+0100
DTSTART:20251026T010000
TZNAME:CET
END:STANDARD
END:VTIMEZONE
BEGIN:VTIMEZONE
TZID:Europe/Amsterdam
BEGIN:STANDARD
TZOFFSETFROM:+0200
TZOFFSETTO:+0100
DTSTART:20251026T010000
TZNAME:CET
END:STANDARD
END:VTIMEZONE
BEGIN:VEVENT
SUMMARY:BOF (bewust omgaan met faalangst)
DESCRIPTION:
URL;VALUE=URI:https://cygnusgymnasium.nl/events/bof-bewust-omgaan-met-fa
 alangst-2/
UID:urn:uuid:266ff656-d087-4c0b-b992-23a4939d1620
STATUS:CONFIRMED
ORGANIZER:
DTSTAMP:20260420T024201Z
DTSTART;TZID=Europe/Amsterdam:20260209T152000
DTEND;TZID=Europe/Amsterdam:20260209T170000
END:VEVENT
END:VCALENDAR