BEGIN:VCALENDAR
METHOD:PUBLISH
VERSION:2.0
CALSCALE:GREGORIAN
PRODID:-//NONSGML WPForms//NONSGML Sugar Calendar Feeds v3.10.0//EN
X-WR-CALNAME:ARISTEIA (+ schoolfeest)
X-WR-CALDESC:Cygnus Gymnasium
X-WR-TIMEZONE:Europe/Amsterdam
BEGIN:VTIMEZONE
TZID:Europe/Amsterdam
BEGIN:DAYLIGHT
TZOFFSETFROM:+0100
TZOFFSETTO:+0200
DTSTART:20260329T010000
TZNAME:CEST
END:DAYLIGHT
END:VTIMEZONE
BEGIN:VTIMEZONE
TZID:Europe/Amsterdam
BEGIN:DAYLIGHT
TZOFFSETFROM:+0100
TZOFFSETTO:+0200
DTSTART:20260329T010000
TZNAME:CEST
END:DAYLIGHT
END:VTIMEZONE
BEGIN:VEVENT
SUMMARY:ARISTEIA (+ schoolfeest)
DESCRIPTION:
URL;VALUE=URI:https://cygnusgymnasium.nl/events/aristeia-schoolfeest-2/
UID:urn:uuid:51ff530b-6586-4650-9bfc-8141b0b9f915
STATUS:CONFIRMED
ORGANIZER:
DTSTAMP:20260419T223118Z
DTSTART;VALUE=DATE:20260529
END:VEVENT
END:VCALENDAR