BEGIN:VCALENDAR
METHOD:PUBLISH
VERSION:2.0
CALSCALE:GREGORIAN
PRODID:-//NONSGML WPForms//NONSGML Sugar Calendar Feeds v3.10.0//EN
X-WR-CALNAME:15.30 uur 1e ronde Olympiade La/Gr in 400 en 401
X-WR-CALDESC:Cygnus Gymnasium
X-WR-TIMEZONE:Europe/Amsterdam
BEGIN:VTIMEZONE
TZID:Europe/Amsterdam
BEGIN:STANDARD
TZOFFSETFROM:+0200
TZOFFSETTO:+0100
DTSTART:20251026T010000
TZNAME:CET
END:STANDARD
END:VTIMEZONE
BEGIN:VTIMEZONE
TZID:Europe/Amsterdam
BEGIN:STANDARD
TZOFFSETFROM:+0200
TZOFFSETTO:+0100
DTSTART:20251026T010000
TZNAME:CET
END:STANDARD
END:VTIMEZONE
BEGIN:VEVENT
SUMMARY:15.30 uur 1e ronde Olympiade La/Gr in 400 en 401
DESCRIPTION:
URL;VALUE=URI:https://cygnusgymnasium.nl/events/1e-ronde-olympiade-la-gr
 -in-400-en-401/
UID:urn:uuid:7f854e15-4bed-4e27-b770-475c679d67cd
STATUS:CONFIRMED
ORGANIZER:
DTSTAMP:20260420T015703Z
DTSTART;TZID=Europe/Amsterdam:20251103T153000
DTEND;TZID=Europe/Amsterdam:20251103T170000
END:VEVENT
END:VCALENDAR