BEGIN:VCALENDAR
METHOD:PUBLISH
VERSION:2.0
CALSCALE:GREGORIAN
PRODID:-//NONSGML WPForms//NONSGML Sugar Calendar Feeds v3.10.0//EN
X-WR-CALNAME:19.30 uur presentatie avond Ad Astra Lj 1 t/m 3
X-WR-CALDESC:Cygnus Gymnasium
X-WR-TIMEZONE:Europe/Amsterdam
BEGIN:VTIMEZONE
TZID:Europe/Amsterdam
BEGIN:DAYLIGHT
TZOFFSETFROM:+0100
TZOFFSETTO:+0200
DTSTART:20260329T010000
TZNAME:CEST
END:DAYLIGHT
END:VTIMEZONE
BEGIN:VTIMEZONE
TZID:Europe/Amsterdam
BEGIN:DAYLIGHT
TZOFFSETFROM:+0100
TZOFFSETTO:+0200
DTSTART:20260329T010000
TZNAME:CEST
END:DAYLIGHT
END:VTIMEZONE
BEGIN:VEVENT
SUMMARY:19.30 uur presentatie avond Ad Astra Lj 1 t/m 3
DESCRIPTION:
URL;VALUE=URI:https://cygnusgymnasium.nl/events/19-30-uur-presentatie-av
 ond-ad-astra-lj-1-t-m-3/
UID:urn:uuid:76dd85bd-7c0c-4ac4-a721-36aed8492d19
STATUS:CONFIRMED
ORGANIZER:
DTSTAMP:20260420T110804Z
DTSTART;TZID=Europe/Amsterdam:20260512T193000
DTEND;TZID=Europe/Amsterdam:20260512T210000
END:VEVENT
END:VCALENDAR