BEGIN:VCALENDAR
METHOD:PUBLISH
VERSION:2.0
CALSCALE:GREGORIAN
PRODID:-//NONSGML WPForms//NONSGML Sugar Calendar Feeds v3.10.0//EN
X-WR-CALNAME:19.30 uur online voorlichtingsavond door alumni
X-WR-CALDESC:Cygnus Gymnasium
X-WR-TIMEZONE:Europe/Amsterdam
BEGIN:VTIMEZONE
TZID:Europe/Amsterdam
BEGIN:STANDARD
TZOFFSETFROM:+0200
TZOFFSETTO:+0100
DTSTART:20251026T010000
TZNAME:CET
END:STANDARD
END:VTIMEZONE
BEGIN:VTIMEZONE
TZID:Europe/Amsterdam
BEGIN:STANDARD
TZOFFSETFROM:+0200
TZOFFSETTO:+0100
DTSTART:20251026T010000
TZNAME:CET
END:STANDARD
END:VTIMEZONE
BEGIN:VEVENT
SUMMARY:19.30 uur online voorlichtingsavond door alumni
DESCRIPTION:
URL;VALUE=URI:https://cygnusgymnasium.nl/events/19-30-uur-online-voorlic
 htingsavond-door-alumni/
UID:urn:uuid:88388657-d93b-44c9-a134-01e5ee08e8a1
STATUS:CONFIRMED
ORGANIZER:
DTSTAMP:20260421T040859Z
DTSTART;TZID=Europe/Amsterdam:20251211T193000
DTEND;TZID=Europe/Amsterdam:20251211T203000
END:VEVENT
END:VCALENDAR