BEGIN:VCALENDAR
METHOD:PUBLISH
VERSION:2.0
CALSCALE:GREGORIAN
PRODID:-//NONSGML WPForms//NONSGML Sugar Calendar Feeds v3.10.0//EN
X-WR-CALNAME:19.30 uur Lj4 informatieavond reizen
X-WR-CALDESC:Cygnus Gymnasium
X-WR-TIMEZONE:Europe/Amsterdam
BEGIN:VTIMEZONE
TZID:Europe/Amsterdam
BEGIN:STANDARD
TZOFFSETFROM:+0200
TZOFFSETTO:+0100
DTSTART:20251026T010000
TZNAME:CET
END:STANDARD
BEGIN:DAYLIGHT
TZOFFSETFROM:+0100
TZOFFSETTO:+0200
DTSTART:20260329T010000
TZNAME:CEST
END:DAYLIGHT
END:VTIMEZONE
BEGIN:VTIMEZONE
TZID:Europe/Amsterdam
BEGIN:STANDARD
TZOFFSETFROM:+0200
TZOFFSETTO:+0100
DTSTART:20251026T010000
TZNAME:CET
END:STANDARD
BEGIN:DAYLIGHT
TZOFFSETFROM:+0100
TZOFFSETTO:+0200
DTSTART:20260329T010000
TZNAME:CEST
END:DAYLIGHT
END:VTIMEZONE
BEGIN:VEVENT
SUMMARY:19.30 uur Lj4 informatieavond reizen
DESCRIPTION:Parijs in lokaal 107-109\nBerlijn in lokaal 309\nVogezen in 
 lokaal 310
URL;VALUE=URI:https://cygnusgymnasium.nl/events/19-30-uur-lj4-informatie
 avond-reizen/
UID:urn:uuid:f6c8d446-d9ad-473a-b1ce-4141d9e09a67
STATUS:CONFIRMED
ORGANIZER:
DTSTAMP:20260421T085846Z
DTSTART;TZID=Europe/Amsterdam:20260407T193000
DTEND;TZID=Europe/Amsterdam:20260407T203000
END:VEVENT
END:VCALENDAR