BEGIN:VCALENDAR
METHOD:PUBLISH
VERSION:2.0
CALSCALE:GREGORIAN
PRODID:-//NONSGML WPForms//NONSGML Sugar Calendar Feeds v3.10.0//EN
X-WR-CALNAME:19.30 uur Lj4 informatie avond reizen (per groep)
X-WR-CALDESC:Cygnus Gymnasium
X-WR-TIMEZONE:Europe/Amsterdam
BEGIN:VTIMEZONE
TZID:Europe/Amsterdam
BEGIN:STANDARD
TZOFFSETFROM:+0200
TZOFFSETTO:+0100
DTSTART:20241027T010000
TZNAME:CET
END:STANDARD
BEGIN:DAYLIGHT
TZOFFSETFROM:+0100
TZOFFSETTO:+0200
DTSTART:20250330T010000
TZNAME:CEST
END:DAYLIGHT
END:VTIMEZONE
BEGIN:VTIMEZONE
TZID:Europe/Amsterdam
BEGIN:STANDARD
TZOFFSETFROM:+0200
TZOFFSETTO:+0100
DTSTART:20241027T010000
TZNAME:CET
END:STANDARD
BEGIN:DAYLIGHT
TZOFFSETFROM:+0100
TZOFFSETTO:+0200
DTSTART:20250330T010000
TZNAME:CEST
END:DAYLIGHT
END:VTIMEZONE
BEGIN:VEVENT
SUMMARY:19.30 uur Lj4 informatie avond reizen (per groep)
DESCRIPTION:- Parijs in lokaal 107-109 (1e etage)\n- Berlijn in aula (4e
  etage)\n- Vogezen in lokaal 310 (3e etage)
URL;VALUE=URI:https://cygnusgymnasium.nl/events/19-30-uur-lj4-informatie
 -avond-reizen-per-groep/
UID:urn:uuid:d56d8fd3-01fa-4288-87e8-3178bb7b0f9a
STATUS:CONFIRMED
ORGANIZER:
DTSTAMP:20260421T115229Z
DTSTART;TZID=Europe/Amsterdam:20250408T193000
DTEND;TZID=Europe/Amsterdam:20250408T203000
END:VEVENT
END:VCALENDAR