BEGIN:VCALENDAR
METHOD:PUBLISH
VERSION:2.0
CALSCALE:GREGORIAN
PRODID:-//NONSGML WPForms//NONSGML Sugar Calendar Feeds v3.10.0//EN
X-WR-CALNAME:19.30 uur Lj3 t/m 6 verkiezingsuitslagavond
X-WR-CALDESC:Cygnus Gymnasium
X-WR-TIMEZONE:Europe/Amsterdam
BEGIN:VTIMEZONE
TZID:Europe/Amsterdam
BEGIN:STANDARD
TZOFFSETFROM:+0200
TZOFFSETTO:+0100
DTSTART:20251026T010000
TZNAME:CET
END:STANDARD
END:VTIMEZONE
BEGIN:VTIMEZONE
TZID:Europe/Amsterdam
BEGIN:STANDARD
TZOFFSETFROM:+0200
TZOFFSETTO:+0100
DTSTART:20251026T010000
TZNAME:CET
END:STANDARD
END:VTIMEZONE
BEGIN:VEVENT
SUMMARY:19.30 uur Lj3 t/m 6 verkiezingsuitslagavond
DESCRIPTION:
URL;VALUE=URI:https://cygnusgymnasium.nl/events/19-30-uur-lj3-t-m-6-verk
 iezingsuitslagavond/
UID:urn:uuid:bfeeeaf4-2386-4ad3-97b1-873f41ef6af2
STATUS:CONFIRMED
ORGANIZER:
DTSTAMP:20260420T103545Z
DTSTART;TZID=Europe/Amsterdam:20251029T193000
DTEND;TZID=Europe/Amsterdam:20251029T213000
END:VEVENT
END:VCALENDAR