BEGIN:VCALENDAR
METHOD:PUBLISH
VERSION:2.0
CALSCALE:GREGORIAN
PRODID:-//NONSGML WPForms//NONSGML Sugar Calendar Feeds v3.10.0//EN
X-WR-CALNAME:19.30 uur examenlezing Latijn (in de aula)
X-WR-CALDESC:Cygnus Gymnasium
X-WR-TIMEZONE:Europe/Amsterdam
BEGIN:VTIMEZONE
TZID:Europe/Amsterdam
BEGIN:STANDARD
TZOFFSETFROM:+0200
TZOFFSETTO:+0100
DTSTART:20251026T010000
TZNAME:CET
END:STANDARD
END:VTIMEZONE
BEGIN:VTIMEZONE
TZID:Europe/Amsterdam
BEGIN:STANDARD
TZOFFSETFROM:+0200
TZOFFSETTO:+0100
DTSTART:20251026T010000
TZNAME:CET
END:STANDARD
END:VTIMEZONE
BEGIN:VEVENT
SUMMARY:19.30 uur examenlezing Latijn (in de aula)
DESCRIPTION:
URL;VALUE=URI:https://cygnusgymnasium.nl/events/19-30-uur-examenlezing-l
 atijn-in-de-aula/
UID:urn:uuid:640d2c60-a0f8-4a15-9cd6-e93b34091dab
STATUS:CONFIRMED
ORGANIZER:
DTSTAMP:20260421T150930Z
DTSTART;TZID=Europe/Amsterdam:20260209T193000
DTEND;TZID=Europe/Amsterdam:20260209T204500
END:VEVENT
END:VCALENDAR