BEGIN:VCALENDAR
METHOD:PUBLISH
VERSION:2.0
CALSCALE:GREGORIAN
PRODID:-//NONSGML WPForms//NONSGML Sugar Calendar Feeds v3.10.0//EN
X-WR-CALNAME:19.15 uur Toneelvoorstelling vd Toneelclub
X-WR-CALDESC:Cygnus Gymnasium
X-WR-TIMEZONE:Europe/Amsterdam
BEGIN:VTIMEZONE
TZID:Europe/Amsterdam
BEGIN:STANDARD
TZOFFSETFROM:+0200
TZOFFSETTO:+0100
DTSTART:20251026T010000
TZNAME:CET
END:STANDARD
END:VTIMEZONE
BEGIN:VTIMEZONE
TZID:Europe/Amsterdam
BEGIN:STANDARD
TZOFFSETFROM:+0200
TZOFFSETTO:+0100
DTSTART:20251026T010000
TZNAME:CET
END:STANDARD
END:VTIMEZONE
BEGIN:VEVENT
SUMMARY:19.15 uur Toneelvoorstelling vd Toneelclub
DESCRIPTION:
URL;VALUE=URI:https://cygnusgymnasium.nl/events/19-15-uur-toneelvoorstel
 ling-vd-toneelclub/
UID:urn:uuid:3808be85-039b-48e2-ac74-8d234c716230
STATUS:CONFIRMED
ORGANIZER:
DTSTAMP:20260421T121916Z
DTSTART;TZID=Europe/Amsterdam:20260327T191500
DTEND;TZID=Europe/Amsterdam:20260327T211500
END:VEVENT
END:VCALENDAR