BEGIN:VCALENDAR
METHOD:PUBLISH
VERSION:2.0
CALSCALE:GREGORIAN
PRODID:-//NONSGML WPForms//NONSGML Sugar Calendar Feeds v3.10.0//EN
X-WR-CALNAME:19.15 uur Cygnus Ontmoet (OR)
X-WR-CALDESC:Cygnus Gymnasium
X-WR-TIMEZONE:Europe/Amsterdam
BEGIN:VTIMEZONE
TZID:Europe/Amsterdam
BEGIN:DAYLIGHT
TZOFFSETFROM:+0100
TZOFFSETTO:+0200
DTSTART:20260329T010000
TZNAME:CEST
END:DAYLIGHT
END:VTIMEZONE
BEGIN:VTIMEZONE
TZID:Europe/Amsterdam
BEGIN:DAYLIGHT
TZOFFSETFROM:+0100
TZOFFSETTO:+0200
DTSTART:20260329T010000
TZNAME:CEST
END:DAYLIGHT
END:VTIMEZONE
BEGIN:VEVENT
SUMMARY:19.15 uur Cygnus Ontmoet (OR)
DESCRIPTION:
URL;VALUE=URI:https://cygnusgymnasium.nl/events/19-15-uur-cygnus-ontmoet
 -or/
UID:urn:uuid:75ec2850-c9d1-40ee-9702-5485d70b2cdf
STATUS:CONFIRMED
ORGANIZER:
DTSTAMP:20260421T153733Z
DTSTART;TZID=Europe/Amsterdam:20260604T191500
DTEND;TZID=Europe/Amsterdam:20260604T210000
END:VEVENT
END:VCALENDAR